BEGIN:VCALENDAR
VERSION:2.0
CALSCALE:GREGORIAN
PRODID:-//Diputació de Barcelona//DibaCMS//EN
BEGIN:VEVENT
UID:57475
DTSTAMP:20260420T162005
DTSTART:20240517T180000
DTEND:20240517T180000
SUMMARY:Taller adults "Papiroflèxia: fem una oribana"
LOCATION:Av. Pau Casals, 26 08450 Llinars del Vallès
METHOD:PUBLISH
X-WR-CALNAME:info@llinarsdelvalles.cat
X-WR-TIMEZONE:Europe/Madrid
DESCRIPTION:A càrrec de Vidalfont paper.

URI:https://www.llinarsdelvalles.cat/actualitat/agenda/taller-adults-papiroflexia-fem-una-oribana.html
CLASS:PUBLIC
END:VEVENT
END:VCALENDAR
