BEGIN:VCALENDAR
VERSION:2.0
CALSCALE:GREGORIAN
PRODID:-//Diputació de Barcelona//DibaCMS//EN
BEGIN:VEVENT
UID:57476
DTSTAMP:20260420T201023
DTSTART:20240516T180000
DTEND:20240516T180000
SUMMARY:Aprendre a parlar en públic
LOCATION:Av. Mas Bagà, 26 08450 Llinars del Vallès
METHOD:PUBLISH
X-WR-CALNAME:info@llinarsdelvalles.cat
X-WR-TIMEZONE:Europe/Madrid
DESCRIPTION:Taller a càrrec de Laura León per treballar les habilitats comunicatives i aprendre consells que ens ajudaran a millorar la nostra relació davant d'un públic.

URI:https://www.llinarsdelvalles.cat/actualitat/agenda/aprendre-a-parlar-en-public.html
CLASS:PUBLIC
END:VEVENT
END:VCALENDAR
