BEGIN:VCALENDAR
VERSION:2.0
CALSCALE:GREGORIAN
PRODID:-//Diputació de Barcelona//DibaCMS//EN
BEGIN:VEVENT
UID:57478
DTSTAMP:20260420T172317
DTSTART:20240524T170000
DTEND:20240524T170000
SUMMARY:Xerrada "Conviure amb el dolor"
LOCATION:C/ Ramon i Cajal - (cantonada Av. Granollers) 08450 Llinars del Vallés
METHOD:PUBLISH
X-WR-CALNAME:info@llinarsdelvalles.cat
X-WR-TIMEZONE:Europe/Madrid
DESCRIPTION:A càrrec del Dr. Germà Morlans.

URI:https://www.llinarsdelvalles.cat/actualitat/agenda/xerrada-conviure-amb-el-dolor.html
CLASS:PUBLIC
END:VEVENT
END:VCALENDAR
