BEGIN:VCALENDAR
VERSION:2.0
CALSCALE:GREGORIAN
PRODID:-//Diputació de Barcelona//DibaCMS//EN
BEGIN:VEVENT
UID:57479
DTSTAMP:20260420T115907
DTSTART:20240506T000000
DTEND:20240613T000000
SUMMARY:Exposició "Objectes quotidians"
LOCATION:C/ Ramon i Cajal - (cantonada Av. Granollers) 08450 Llinars del Vallés
METHOD:PUBLISH
X-WR-CALNAME:info@llinarsdelvalles.cat
X-WR-TIMEZONE:Europe/Madrid
DESCRIPTION:A càrrec de Caroline Bilson.

URI:https://www.llinarsdelvalles.cat/actualitat/agenda/exposicio-objectes-quotidians.html
CLASS:PUBLIC
END:VEVENT
END:VCALENDAR
