BEGIN:VCALENDAR
VERSION:2.0
CALSCALE:GREGORIAN
PRODID:-//Diputació de Barcelona//DibaCMS//EN
BEGIN:VEVENT
UID:57484
DTSTAMP:20260420T224355
DTSTART:20240512T120000
DTEND:20240512T120000
SUMMARY:Cicle de concerts a Sanata "Poemes i melodies"
LOCATION:08450 Llinars del Vallès
METHOD:PUBLISH
X-WR-CALNAME:info@llinarsdelvalles.cat
X-WR-TIMEZONE:Europe/Madrid
DESCRIPTION:A càrrec del Duo Lluna Blava.

URI:https://www.llinarsdelvalles.cat/actualitat/agenda/cicle-de-concerts-a-sanata-poemes-i-melodies.html
CLASS:PUBLIC
END:VEVENT
END:VCALENDAR
