BEGIN:VCALENDAR
VERSION:2.0
CALSCALE:GREGORIAN
PRODID:-//Diputació de Barcelona//DibaCMS//EN
BEGIN:VEVENT
UID:57495
DTSTAMP:20260420T155945
DTSTART:20240518T110000
DTEND:20240518T110000
SUMMARY:Hora menuda "Ninota"
LOCATION:
METHOD:PUBLISH
X-WR-CALNAME:info@llinarsdelvalles.cat
X-WR-TIMEZONE:Europe/Madrid
DESCRIPTION:A càrrec d'Enrenou Teatre.

URI:https://www.llinarsdelvalles.cat/actualitat/agenda/hora-menuda-ninota.html
CLASS:PUBLIC
END:VEVENT
END:VCALENDAR
