BEGIN:VCALENDAR
VERSION:2.0
CALSCALE:GREGORIAN
PRODID:-//Diputació de Barcelona//DibaCMS//EN
BEGIN:VEVENT
UID:57496
DTSTAMP:20260420T175913
DTSTART:20240519T080000
DTEND:20240519T140000
SUMMARY:Mercat Boig
LOCATION:
METHOD:PUBLISH
X-WR-CALNAME:info@llinarsdelvalles.cat
X-WR-TIMEZONE:Europe/Madrid
DESCRIPTION:
URI:https://www.llinarsdelvalles.cat/actualitat/agenda/57496-mercat-boig.html
CLASS:PUBLIC
END:VEVENT
END:VCALENDAR
