BEGIN:VCALENDAR
VERSION:2.0
CALSCALE:GREGORIAN
PRODID:-//Diputació de Barcelona//DibaCMS//EN
BEGIN:VEVENT
UID:57497
DTSTAMP:20260420T172017
DTSTART:20240522T183000
DTEND:20240522T183000
SUMMARY:Escolta Jove "Com afecten les expectatives dels tutors/es al desenvolupament dels fills/es"
LOCATION:C/ Josep Argila, 39 08450 Llinars del Vallés
METHOD:PUBLISH
X-WR-CALNAME:info@llinarsdelvalles.cat
X-WR-TIMEZONE:Europe/Madrid
DESCRIPTION:Cicle de tallers per a famílies.

URI:https://www.llinarsdelvalles.cat/actualitat/agenda/escolta-jove-com-afecten-les-expectatives-dels-tutorses-al-desenvolupament-dels-fillses.html
CLASS:PUBLIC
END:VEVENT
END:VCALENDAR
