BEGIN:VCALENDAR
VERSION:2.0
CALSCALE:GREGORIAN
PRODID:-//Diputació de Barcelona//DibaCMS//EN
BEGIN:VEVENT
UID:57511
DTSTAMP:20260420T161447
DTSTART:20240603T000000
DTEND:20240603T000000
SUMMARY:Portes obertes del Club Bàsquet Llinars
LOCATION:Av. Pau Casals, 18-20 (Àrea central) 08450 Llinars del Vallès
METHOD:PUBLISH
X-WR-CALNAME:info@llinarsdelvalles.cat
X-WR-TIMEZONE:Europe/Madrid
DESCRIPTION:A partir del 3 de juny.

URI:https://www.llinarsdelvalles.cat/actualitat/agenda/portes-obertes-del-club-basquet-llinars.html
CLASS:PUBLIC
END:VEVENT
END:VCALENDAR
