BEGIN:VCALENDAR
VERSION:2.0
CALSCALE:GREGORIAN
PRODID:-//Diputació de Barcelona//DibaCMS//EN
BEGIN:VEVENT
UID:57512
DTSTAMP:20260421T032003
DTSTART:20240601T090000
DTEND:20240601T130000
SUMMARY:Diada del bàsquet 
LOCATION:Av. Pau Casals, 18-20 (Àrea central) 08450 Llinars del Vallès
METHOD:PUBLISH
X-WR-CALNAME:info@llinarsdelvalles.cat
X-WR-TIMEZONE:Europe/Madrid
DESCRIPTION:
URI:https://www.llinarsdelvalles.cat/actualitat/agenda/diada-del-basquet-.html
CLASS:PUBLIC
END:VEVENT
END:VCALENDAR
