BEGIN:VCALENDAR
VERSION:2.0
CALSCALE:GREGORIAN
PRODID:-//Diputació de Barcelona//DibaCMS//EN
BEGIN:VEVENT
UID:57525
DTSTAMP:20260420T172849
DTSTART:20240601T110000
DTEND:20240601T120000
SUMMARY:Taller de sexualitat "Acompanyant els Joves: Suport Familiar durant els Canvis de l'Adolescència"
LOCATION:08450 Llinars del Vallès
METHOD:PUBLISH
X-WR-CALNAME:info@llinarsdelvalles.cat
X-WR-TIMEZONE:Europe/Madrid
DESCRIPTION:A càrrec de Laura Vera.

URI:https://www.llinarsdelvalles.cat/actualitat/agenda/taller-de-sexualitat-acompanyant-els-joves-suport-familiar-durant-els-canvis-de-ladolescencia.html
CLASS:PUBLIC
END:VEVENT
END:VCALENDAR
