BEGIN:VCALENDAR
VERSION:2.0
CALSCALE:GREGORIAN
PRODID:-//Diputació de Barcelona//DibaCMS//EN
BEGIN:VEVENT
UID:57526
DTSTAMP:20260420T155709
DTSTART:20240601T120000
DTEND:20240601T120000
SUMMARY:Presentació Km0 "Las Voces del Bosque"
LOCATION:Av. Pau Casals, 26 08450 Llinars del Vallès
METHOD:PUBLISH
X-WR-CALNAME:info@llinarsdelvalles.cat
X-WR-TIMEZONE:Europe/Madrid
DESCRIPTION:
URI:https://www.llinarsdelvalles.cat/actualitat/agenda/presentacio-km0-las-voces-del-bosque.html
CLASS:PUBLIC
END:VEVENT
END:VCALENDAR
