BEGIN:VCALENDAR
VERSION:2.0
CALSCALE:GREGORIAN
PRODID:-//Diputació de Barcelona//DibaCMS//EN
BEGIN:VEVENT
UID:57527
DTSTAMP:20260420T024316
DTSTART:20240606T183000
DTEND:20240606T183000
SUMMARY:Xerrada "Mi menstruación, mi maestra"
LOCATION:Av. Pau Casals, 26 08450 Llinars del Vallès
METHOD:PUBLISH
X-WR-CALNAME:info@llinarsdelvalles.cat
X-WR-TIMEZONE:Europe/Madrid
DESCRIPTION:A càrrec de Sara Cobos.

URI:https://www.llinarsdelvalles.cat/actualitat/agenda/xerrada-mi-menstruacion-mi-maestra.html
CLASS:PUBLIC
END:VEVENT
END:VCALENDAR
