BEGIN:VCALENDAR
VERSION:2.0
CALSCALE:GREGORIAN
PRODID:-//Diputació de Barcelona//DibaCMS//EN
BEGIN:VEVENT
UID:57529
DTSTAMP:20260420T143906
DTSTART:20240625T180000
DTEND:20240625T180000
SUMMARY:Hora del conte "Som de colors!"
LOCATION:Av. Pau Casals, 26 08450 Llinars del Vallès
METHOD:PUBLISH
X-WR-CALNAME:info@llinarsdelvalles.cat
X-WR-TIMEZONE:Europe/Madrid
DESCRIPTION:A càrrec de Raig de Sol contes.

URI:https://www.llinarsdelvalles.cat/actualitat/agenda/hora-del-conte-som-de-colors.html
CLASS:PUBLIC
END:VEVENT
END:VCALENDAR
