BEGIN:VCALENDAR
VERSION:2.0
CALSCALE:GREGORIAN
PRODID:-//Diputació de Barcelona//DibaCMS//EN
BEGIN:VEVENT
UID:57530
DTSTAMP:20260420T051341
DTSTART:20240605T180000
DTEND:20240605T180000
SUMMARY:Taller infantil "Creem súper llavors"
LOCATION:Av. Pau Casals, 26 08450 Llinars del Vallès
METHOD:PUBLISH
X-WR-CALNAME:info@llinarsdelvalles.cat
X-WR-TIMEZONE:Europe/Madrid
DESCRIPTION:A càrrec de Creadoras de Bosques.

URI:https://www.llinarsdelvalles.cat/actualitat/agenda/taller-infantil-creem-super-llavors.html
CLASS:PUBLIC
END:VEVENT
END:VCALENDAR
