BEGIN:VCALENDAR
VERSION:2.0
CALSCALE:GREGORIAN
PRODID:-//Diputació de Barcelona//DibaCMS//EN
BEGIN:VEVENT
UID:57531
DTSTAMP:20260420T012348
DTSTART:20240607T180000
DTEND:20240607T180000
SUMMARY:Hora del conte "Fulles, peixos, vaques... i plàstics?"
LOCATION:
METHOD:PUBLISH
X-WR-CALNAME:info@llinarsdelvalles.cat
X-WR-TIMEZONE:Europe/Madrid
DESCRIPTION:A càrrec de Gisela Llimona.

URI:https://www.llinarsdelvalles.cat/actualitat/agenda/hora-del-conte-fulles-peixos-vaques-i-plastics.html
CLASS:PUBLIC
END:VEVENT
END:VCALENDAR
