BEGIN:VCALENDAR
VERSION:2.0
CALSCALE:GREGORIAN
PRODID:-//Diputació de Barcelona//DibaCMS//EN
BEGIN:VEVENT
UID:57532
DTSTAMP:20260420T024111
DTSTART:20240607T183000
DTEND:20240607T183000
SUMMARY:Presentació Km0 "Capellans cèlibes i capellans casats" i "De zero a Déu en 55 dies. Exercicis pràctics per a cercadors de sentits"
LOCATION:
METHOD:PUBLISH
X-WR-CALNAME:info@llinarsdelvalles.cat
X-WR-TIMEZONE:Europe/Madrid
DESCRIPTION:De Mn. Xavier Morlans.
A càrrec de Carlota Morlans, Reyes Barragán i membres del Till-Tall.

URI:https://www.llinarsdelvalles.cat/actualitat/agenda/presentacio-km0-capellans-celibes-i-capellans-casats-i-de-zero-a-deu-en-55-dies-exercicis-practics-per-a-cercadors-de-sentits.html
CLASS:PUBLIC
END:VEVENT
END:VCALENDAR
