BEGIN:VCALENDAR
VERSION:2.0
CALSCALE:GREGORIAN
PRODID:-//Diputació de Barcelona//DibaCMS//EN
BEGIN:VEVENT
UID:57533
DTSTAMP:20260420T024341
DTSTART:20240608T100000
DTEND:20240608T100000
SUMMARY:Sortida Km0 "A la recerca de la connectivitat ecològica"
LOCATION:Av. Pau Casals, 26 08450 Llinars del Vallès
METHOD:PUBLISH
X-WR-CALNAME:info@llinarsdelvalles.cat
X-WR-TIMEZONE:Europe/Madrid
DESCRIPTION:A càrrec de l'Escola de Natura del Corredor.
Dintre de la Setmana de la Natura 2024.

URI:https://www.llinarsdelvalles.cat/actualitat/agenda/sortida-km0-a-la-recerca-de-la-connectivitat-ecologica.html
CLASS:PUBLIC
END:VEVENT
END:VCALENDAR
