BEGIN:VCALENDAR
VERSION:2.0
CALSCALE:GREGORIAN
PRODID:-//Diputació de Barcelona//DibaCMS//EN
BEGIN:VEVENT
UID:57534
DTSTAMP:20260420T012424
DTSTART:20240614T183000
DTEND:20240614T183000
SUMMARY:Presentació Km0 "Y la que escucha no es ella"
LOCATION:Av. Pau Casals, 26 08450 Llinars del Vallès
METHOD:PUBLISH
X-WR-CALNAME:info@llinarsdelvalles.cat
X-WR-TIMEZONE:Europe/Madrid
DESCRIPTION:A càrrec de Sílvia López Ripoll, autora, i Joan Mauri Candelich. Alfred Guiu a la guitarra.

URI:https://www.llinarsdelvalles.cat/actualitat/agenda/presentacio-km0-y-la-que-escucha-no-es-ella.html
CLASS:PUBLIC
END:VEVENT
END:VCALENDAR
