BEGIN:VCALENDAR
VERSION:2.0
CALSCALE:GREGORIAN
PRODID:-//Diputació de Barcelona//DibaCMS//EN
BEGIN:VEVENT
UID:57535
DTSTAMP:20260421T001000
DTSTART:20240620T180000
DTEND:20240620T180000
SUMMARY:Taller adults "Gelats"
LOCATION:Av. Pau Casals, 26 08450 Llinars del Vallès
METHOD:PUBLISH
X-WR-CALNAME:info@llinarsdelvalles.cat
X-WR-TIMEZONE:Europe/Madrid
DESCRIPTION:A càrrec d'Anna Colomer Campeny.

URI:https://www.llinarsdelvalles.cat/actualitat/agenda/taller-adults-gelats.html
CLASS:PUBLIC
END:VEVENT
END:VCALENDAR
