BEGIN:VCALENDAR
VERSION:2.0
CALSCALE:GREGORIAN
PRODID:-//Diputació de Barcelona//DibaCMS//EN
BEGIN:VEVENT
UID:57536
DTSTAMP:20260420T074841
DTSTART:20240608T170000
DTEND:20240608T170000
SUMMARY:Festival de fi de curs de Rítmica
LOCATION:Av. Pau Casals, 18-20 (Àrea central) 08450 Llinars del Vallès
METHOD:PUBLISH
X-WR-CALNAME:info@llinarsdelvalles.cat
X-WR-TIMEZONE:Europe/Madrid
DESCRIPTION:Organitza: Rítmica CEL.

URI:https://www.llinarsdelvalles.cat/actualitat/agenda/57536-festival-de-fi-de-curs-de-ritmica.html
CLASS:PUBLIC
END:VEVENT
END:VCALENDAR
