BEGIN:VCALENDAR
VERSION:2.0
CALSCALE:GREGORIAN
PRODID:-//Diputació de Barcelona//DibaCMS//EN
BEGIN:VEVENT
UID:57538
DTSTAMP:20260421T035339
DTSTART:20240629T100000
DTEND:20240629T130000
SUMMARY:Coneix el Trial amb moto elèctrica
LOCATION:Camps de l'Illa 
METHOD:PUBLISH
X-WR-CALNAME:info@llinarsdelvalles.cat
X-WR-TIMEZONE:Europe/Madrid
DESCRIPTION:A càrrec de Sam Obradó i TRS Motorcycles.

URI:https://www.llinarsdelvalles.cat/actualitat/agenda/coneix-el-trial-amb-moto-electrica.html
CLASS:PUBLIC
END:VEVENT
END:VCALENDAR
