BEGIN:VCALENDAR
VERSION:2.0
CALSCALE:GREGORIAN
PRODID:-//Diputació de Barcelona//DibaCMS//EN
BEGIN:VEVENT
UID:57540
DTSTAMP:20260420T035102
DTSTART:20240609T000000
DTEND:20240609T000000
SUMMARY:Concerts de fi de curs de l'Escola Municipal de Música
LOCATION:Ronda Sant Antoni, 19 08450 Llinars del Vallès
METHOD:PUBLISH
X-WR-CALNAME:info@llinarsdelvalles.cat
X-WR-TIMEZONE:Europe/Madrid
DESCRIPTION:
URI:https://www.llinarsdelvalles.cat/actualitat/agenda/concerts-de-fi-de-curs-de-lescola-municipal-de-musica.html
CLASS:PUBLIC
END:VEVENT
END:VCALENDAR
