BEGIN:VCALENDAR
VERSION:2.0
CALSCALE:GREGORIAN
PRODID:-//Diputació de Barcelona//DibaCMS//EN
BEGIN:VEVENT
UID:57542
DTSTAMP:20260420T075058
DTSTART:20240614T190000
DTEND:20240614T190000
SUMMARY:Enotast
LOCATION:C/ Frederic Marés (antic CAP) 08450 Llinars del Vallès
METHOD:PUBLISH
X-WR-CALNAME:info@llinarsdelvalles.cat
X-WR-TIMEZONE:Europe/Madrid
DESCRIPTION:Veniu a conèixer els sabors que ens ofereix el Territori DO Alella.

URI:https://www.llinarsdelvalles.cat/actualitat/agenda/57542-enotast.html
CLASS:PUBLIC
END:VEVENT
END:VCALENDAR
