BEGIN:VCALENDAR
VERSION:2.0
CALSCALE:GREGORIAN
PRODID:-//Diputació de Barcelona//DibaCMS//EN
BEGIN:VEVENT
UID:57543
DTSTAMP:20260420T012314
DTSTART:20240615T193000
DTEND:20240615T193000
SUMMARY:Sardanes amb la Cobla Ciutat de Terrassa
LOCATION:A la plaça Caritg 
METHOD:PUBLISH
X-WR-CALNAME:info@llinarsdelvalles.cat
X-WR-TIMEZONE:Europe/Madrid
DESCRIPTION:
URI:https://www.llinarsdelvalles.cat/actualitat/agenda/57543-sardanes-amb-la-cobla-ciutat-de-terrassa.html
CLASS:PUBLIC
END:VEVENT
END:VCALENDAR
