BEGIN:VCALENDAR
VERSION:2.0
CALSCALE:GREGORIAN
PRODID:-//Diputació de Barcelona//DibaCMS//EN
BEGIN:VEVENT
UID:57544
DTSTAMP:20260420T034357
DTSTART:20240615T210000
DTEND:20240615T210000
SUMMARY:Tomb per Llinars
LOCATION:C/ Mas Bagà, 24 08450 Llinars del Vallés
METHOD:PUBLISH
X-WR-CALNAME:info@llinarsdelvalles.cat
X-WR-TIMEZONE:Europe/Madrid
DESCRIPTION:Visita guiada i teatralitzada.

URI:https://www.llinarsdelvalles.cat/actualitat/agenda/57544-tomb-per-llinars.html
CLASS:PUBLIC
END:VEVENT
END:VCALENDAR
