BEGIN:VCALENDAR
VERSION:2.0
CALSCALE:GREGORIAN
PRODID:-//Diputació de Barcelona//DibaCMS//EN
BEGIN:VEVENT
UID:57551
DTSTAMP:20260420T075411
DTSTART:20240710T090000
DTEND:20240710T090000
SUMMARY:Activa't a l'Estiu 2024
LOCATION:
METHOD:PUBLISH
X-WR-CALNAME:info@llinarsdelvalles.cat
X-WR-TIMEZONE:Europe/Madrid
DESCRIPTION:Caminades saludables de 5 a 7 km per l'entorn de Llinars, aptes per a tothom.

URI:https://www.llinarsdelvalles.cat/actualitat/agenda/57551-activat-a-lestiu-2024.html
CLASS:PUBLIC
END:VEVENT
END:VCALENDAR
