BEGIN:VCALENDAR
VERSION:2.0
CALSCALE:GREGORIAN
PRODID:-//Diputació de Barcelona//DibaCMS//EN
BEGIN:VEVENT
UID:57557
DTSTAMP:20260420T212528
DTSTART:20240628T000000
DTEND:20240630T000000
SUMMARY:Festa Major de Sant Josep
LOCATION:
METHOD:PUBLISH
X-WR-CALNAME:info@llinarsdelvalles.cat
X-WR-TIMEZONE:Europe/Madrid
DESCRIPTION:Consulta les activitats que es celebraran:

URI:https://www.llinarsdelvalles.cat/actualitat/agenda/57557-festa-major-de-sant-josep.html
CLASS:PUBLIC
END:VEVENT
END:VCALENDAR
