BEGIN:VCALENDAR
VERSION:2.0
CALSCALE:GREGORIAN
PRODID:-//Diputació de Barcelona//DibaCMS//EN
BEGIN:VEVENT
UID:57558
DTSTAMP:20260420T212854
DTSTART:20240623T120000
DTEND:20240623T120000
SUMMARY:Cercavila Gegants Vells
LOCATION:
METHOD:PUBLISH
X-WR-CALNAME:info@llinarsdelvalles.cat
X-WR-TIMEZONE:Europe/Madrid
DESCRIPTION:A la revetlla de Sant Joan de 1974 en Miquel i la Pepeta van ballar per primer cop pels carrers de Llinars. Enguany, excepcionalment, tornen a sortir al carrer el mateix dia per celebrar amb una cercavila el seu 50è aniversari.

URI:https://www.llinarsdelvalles.cat/actualitat/agenda/cercavila-gegants-vells.html
CLASS:PUBLIC
END:VEVENT
END:VCALENDAR
