BEGIN:VCALENDAR
VERSION:2.0
CALSCALE:GREGORIAN
PRODID:-//Diputació de Barcelona//DibaCMS//EN
BEGIN:VEVENT
UID:57559
DTSTAMP:20260420T185345
DTSTART:20240623T210000
DTEND:20240623T210000
SUMMARY:Revetlla de Sant Joan a Can Boatell
LOCATION:08450 Llinars del Vallès
METHOD:PUBLISH
X-WR-CALNAME:info@llinarsdelvalles.cat
X-WR-TIMEZONE:Europe/Madrid
DESCRIPTION:Sopar, música, animació, coca i cava.

URI:https://www.llinarsdelvalles.cat/actualitat/agenda/revetlla-de-sant-joan-a-can-boatell.html
CLASS:PUBLIC
END:VEVENT
END:VCALENDAR
