BEGIN:VCALENDAR
VERSION:2.0
CALSCALE:GREGORIAN
PRODID:-//Diputació de Barcelona//DibaCMS//EN
BEGIN:VEVENT
UID:57560
DTSTAMP:20260420T222713
DTSTART:20240623T220000
DTEND:20240623T220000
SUMMARY:Rebuda de la Flama del Canigó i lectura del Manifest
LOCATION:08450 Llinars del Vallès
METHOD:PUBLISH
X-WR-CALNAME:info@llinarsdelvalles.cat
X-WR-TIMEZONE:Europe/Madrid
DESCRIPTION:A continuació, cercavila fins als camps de l'Illa, petit correfoc infantil i carretilla.

URI:https://www.llinarsdelvalles.cat/actualitat/agenda/rebuda-de-la-flama-del-canigo-i-lectura-del-manifest.html
CLASS:PUBLIC
END:VEVENT
END:VCALENDAR
