BEGIN:VCALENDAR
VERSION:2.0
CALSCALE:GREGORIAN
PRODID:-//Diputació de Barcelona//DibaCMS//EN
BEGIN:VEVENT
UID:57570
DTSTAMP:20260420T035138
DTSTART:20240714T180000
DTEND:20240714T180000
SUMMARY:Festa de Sant Cristòfol
LOCATION:
METHOD:PUBLISH
X-WR-CALNAME:info@llinarsdelvalles.cat
X-WR-TIMEZONE:Europe/Madrid
DESCRIPTION:18 h. Missa i benedicció de vehicles.
19 h. Sardanes.

URI:https://www.llinarsdelvalles.cat/actualitat/agenda/57570-festa-de-sant-cristofol.html
CLASS:PUBLIC
END:VEVENT
END:VCALENDAR
