BEGIN:VCALENDAR
VERSION:2.0
CALSCALE:GREGORIAN
PRODID:-//Diputació de Barcelona//DibaCMS//EN
BEGIN:VEVENT
UID:57571
DTSTAMP:20260420T035025
DTSTART:20240713T220000
DTEND:20240713T220000
SUMMARY:Cinema a la fresca "Wonka"
LOCATION:08450 Llinars del Vallès
METHOD:PUBLISH
X-WR-CALNAME:info@llinarsdelvalles.cat
X-WR-TIMEZONE:Europe/Madrid
DESCRIPTION:
URI:https://www.llinarsdelvalles.cat/actualitat/agenda/cinema-a-la-fresca-wonka.html
CLASS:PUBLIC
END:VEVENT
END:VCALENDAR
