BEGIN:VCALENDAR
VERSION:2.0
CALSCALE:GREGORIAN
PRODID:-//Diputació de Barcelona//DibaCMS//EN
BEGIN:VEVENT
UID:57572
DTSTAMP:20260420T212827
DTSTART:20240630T170000
DTEND:20240630T170000
SUMMARY:Ball amb Xarop de Nit
LOCATION:C/ Ramon i Cajal - (cantonada Av. Granollers) 08450 Llinars del Vallés
METHOD:PUBLISH
X-WR-CALNAME:info@llinarsdelvalles.cat
X-WR-TIMEZONE:Europe/Madrid
DESCRIPTION:
URI:https://www.llinarsdelvalles.cat/actualitat/agenda/57572-ball-amb-xarop-de-nit.html
CLASS:PUBLIC
END:VEVENT
END:VCALENDAR
