BEGIN:VCALENDAR
VERSION:2.0
CALSCALE:GREGORIAN
PRODID:-//Diputació de Barcelona//DibaCMS//EN
BEGIN:VEVENT
UID:57575
DTSTAMP:20260421T060118
DTSTART:20240622T000000
DTEND:20240727T000000
SUMMARY:Visites guiades al Castell Nou
LOCATION:
METHOD:PUBLISH
X-WR-CALNAME:info@llinarsdelvalles.cat
X-WR-TIMEZONE:Europe/Madrid
DESCRIPTION:Descobreix de primera mà un dels tresors del poble.

URI:https://www.llinarsdelvalles.cat/actualitat/agenda/visites-guiades-al-castell-nou.html
CLASS:PUBLIC
END:VEVENT
END:VCALENDAR
