BEGIN:VCALENDAR
VERSION:2.0
CALSCALE:GREGORIAN
PRODID:-//Diputació de Barcelona//DibaCMS//EN
BEGIN:VEVENT
UID:57578
DTSTAMP:20260421T043118
DTSTART:20240630T100000
DTEND:20240630T130000
SUMMARY:Ràpides d'escacs per a aficionats
LOCATION:
METHOD:PUBLISH
X-WR-CALNAME:info@llinarsdelvalles.cat
X-WR-TIMEZONE:Europe/Madrid
DESCRIPTION:
URI:https://www.llinarsdelvalles.cat/actualitat/agenda/rapides-descacs-per-a-aficionats.html
CLASS:PUBLIC
END:VEVENT
END:VCALENDAR
