BEGIN:VCALENDAR
VERSION:2.0
CALSCALE:GREGORIAN
PRODID:-//Diputació de Barcelona//DibaCMS//EN
BEGIN:VEVENT
UID:57579
DTSTAMP:20260421T013022
DTSTART:20240625T170000
DTEND:20240703T170000
SUMMARY:IV Llinars International Chess Open 2024
LOCATION:
METHOD:PUBLISH
X-WR-CALNAME:info@llinarsdelvalles.cat
X-WR-TIMEZONE:Europe/Madrid
DESCRIPTION:Tota la informació i inscripcions al web www.llinarsopen.cat.

URI:https://www.llinarsdelvalles.cat/actualitat/agenda/iv-llinars-international-chess-open-2024.html
CLASS:PUBLIC
END:VEVENT
END:VCALENDAR
