BEGIN:VCALENDAR
VERSION:2.0
CALSCALE:GREGORIAN
PRODID:-//Diputació de Barcelona//DibaCMS//EN
BEGIN:VEVENT
UID:57580
DTSTAMP:20260420T235331
DTSTART:20240626T193000
DTEND:20240626T193000
SUMMARY:Presentació del llibre de Teresa Sagrera "El Cor del Balneari"
LOCATION:08450 Llinars del Vallès
METHOD:PUBLISH
X-WR-CALNAME:info@llinarsdelvalles.cat
X-WR-TIMEZONE:Europe/Madrid
DESCRIPTION:Premi Néstor Luján 2024.

URI:https://www.llinarsdelvalles.cat/actualitat/agenda/presentacio-del-llibre-de-teresa-sagrera-el-cor-del-balneari.html
CLASS:PUBLIC
END:VEVENT
END:VCALENDAR
