BEGIN:VCALENDAR
VERSION:2.0
CALSCALE:GREGORIAN
PRODID:-//Diputació de Barcelona//DibaCMS//EN
BEGIN:VEVENT
UID:57592
DTSTAMP:20260420T224735
DTSTART:20240704T000000
DTEND:20240704T000000
SUMMARY:Donació de sang
LOCATION:C/ Josep Argila, 39 08450 Llinars del Vallés
METHOD:PUBLISH
X-WR-CALNAME:info@llinarsdelvalles.cat
X-WR-TIMEZONE:Europe/Madrid
DESCRIPTION:Dona vida, dona sang!

URI:https://www.llinarsdelvalles.cat/actualitat/agenda/57592-donacio-de-sang.html
CLASS:PUBLIC
END:VEVENT
END:VCALENDAR
