BEGIN:VCALENDAR
VERSION:2.0
CALSCALE:GREGORIAN
PRODID:-//Diputació de Barcelona//DibaCMS//EN
BEGIN:VEVENT
UID:57593
DTSTAMP:20260420T090709
DTSTART:20240704T180000
DTEND:20240704T180000
SUMMARY:Planetari immersiu "Explorem l'Espai"
LOCATION:Av. Pau Casals, 26 08450 Llinars del Vallès
METHOD:PUBLISH
X-WR-CALNAME:info@llinarsdelvalles.cat
X-WR-TIMEZONE:Europe/Madrid
DESCRIPTION:A càrrec d'Explora 360.

URI:https://www.llinarsdelvalles.cat/actualitat/agenda/planetari-immersiu-explorem-lespai.html
CLASS:PUBLIC
END:VEVENT
END:VCALENDAR
