BEGIN:VCALENDAR
VERSION:2.0
CALSCALE:GREGORIAN
PRODID:-//Diputació de Barcelona//DibaCMS//EN
BEGIN:VEVENT
UID:57594
DTSTAMP:20260420T075211
DTSTART:20240704T190000
DTEND:20240704T190000
SUMMARY:Planetari immersiu "Misteris del Sistema Solar"
LOCATION:Av. Pau Casals, 26 08450 Llinars del Vallès
METHOD:PUBLISH
X-WR-CALNAME:info@llinarsdelvalles.cat
X-WR-TIMEZONE:Europe/Madrid
DESCRIPTION:A càrrec d'Explora 360.

URI:https://www.llinarsdelvalles.cat/actualitat/agenda/planetari-immersiu-misteris-del-sistema-solar.html
CLASS:PUBLIC
END:VEVENT
END:VCALENDAR
