BEGIN:VCALENDAR
VERSION:2.0
CALSCALE:GREGORIAN
PRODID:-//Diputació de Barcelona//DibaCMS//EN
BEGIN:VEVENT
UID:57596
DTSTAMP:20260420T091459
DTSTART:20240706T000000
DTEND:20240706T000000
SUMMARY:2a edició de Flash Fiction
LOCATION:
METHOD:PUBLISH
X-WR-CALNAME:info@llinarsdelvalles.cat
X-WR-TIMEZONE:Europe/Madrid
DESCRIPTION:Arriba la segona edició de Flash Fiction, la proposta del Grup de Teatre Till-Tall que porta peces de teatre breu als bars del municipi.

URI:https://www.llinarsdelvalles.cat/actualitat/agenda/2a-edicio-de-flash-fiction.html
CLASS:PUBLIC
END:VEVENT
END:VCALENDAR
