BEGIN:VCALENDAR
VERSION:2.0
CALSCALE:GREGORIAN
PRODID:-//Diputació de Barcelona//DibaCMS//EN
BEGIN:VEVENT
UID:57598
DTSTAMP:20260420T035154
DTSTART:20240707T000000
DTEND:20240707T000000
SUMMARY:2a edició de Flash Fiction al Till-Tall Bar
LOCATION:Ronda Sant Antoni, 19 08450 Llinars del Vallès
METHOD:PUBLISH
X-WR-CALNAME:info@llinarsdelvalles.cat
X-WR-TIMEZONE:Europe/Madrid
DESCRIPTION:A la Sala Tallers del Teatre Auditori.

URI:https://www.llinarsdelvalles.cat/actualitat/agenda/2a-edicio-de-flash-fiction-al-till-tall-bar.html
CLASS:PUBLIC
END:VEVENT
END:VCALENDAR
