BEGIN:VCALENDAR
VERSION:2.0
CALSCALE:GREGORIAN
PRODID:-//Diputació de Barcelona//DibaCMS//EN
BEGIN:VEVENT
UID:57600
DTSTAMP:20260420T155832
DTSTART:20240713T190000
DTEND:20240713T190000
SUMMARY:4t Llinars Rock
LOCATION:Avinguda Mogent (davant fàbrica Hidrocolor) 
METHOD:PUBLISH
X-WR-CALNAME:info@llinarsdelvalles.cat
X-WR-TIMEZONE:Europe/Madrid
DESCRIPTION:Amb els grups: Barmanolo, The Gas, Oopart, Brot Bord, Doministikum, Bonestorn, Males Arts, Allau, Dj Massip.

URI:https://www.llinarsdelvalles.cat/actualitat/agenda/4t-llinars-rock.html
CLASS:PUBLIC
END:VEVENT
END:VCALENDAR
