BEGIN:VCALENDAR
VERSION:2.0
CALSCALE:GREGORIAN
PRODID:-//Diputació de Barcelona//DibaCMS//EN
BEGIN:VEVENT
UID:57601
DTSTAMP:20260420T090943
DTSTART:20240704T190000
DTEND:20240704T190000
SUMMARY:Presentació dels llibres de Juan Carlos Rodríguez Esteban
LOCATION:08450 Llinars del Vallès
METHOD:PUBLISH
X-WR-CALNAME:info@llinarsdelvalles.cat
X-WR-TIMEZONE:Europe/Madrid
DESCRIPTION:
	Santiago Rusiñol, estiuejant o llinassenc?
	A l’ombra del Rossinyol


URI:https://www.llinarsdelvalles.cat/actualitat/agenda/presentacio-dels-llibres-de-juan-carlos-rodriguez-esteban.html
CLASS:PUBLIC
END:VEVENT
END:VCALENDAR
