BEGIN:VCALENDAR
VERSION:2.0
CALSCALE:GREGORIAN
PRODID:-//Diputació de Barcelona//DibaCMS//EN
BEGIN:VEVENT
UID:57602
DTSTAMP:20260420T013909
DTSTART:20240719T220000
DTEND:20240719T220000
SUMMARY:4C Cicle de concerts i copes al Castell Nou
LOCATION:08450 Llinars del Vallès
METHOD:PUBLISH
X-WR-CALNAME:info@llinarsdelvalles.cat
X-WR-TIMEZONE:Europe/Madrid
DESCRIPTION:Agustí Burriel “SINATRA TRIBUT”

URI:https://www.llinarsdelvalles.cat/actualitat/agenda/57602-4c-cicle-de-concerts-i-copes-al-castell-nou.html
CLASS:PUBLIC
END:VEVENT
END:VCALENDAR
