BEGIN:VCALENDAR
VERSION:2.0
CALSCALE:GREGORIAN
PRODID:-//Diputació de Barcelona//DibaCMS//EN
BEGIN:VEVENT
UID:57608
DTSTAMP:20260420T023639
DTSTART:20240709T180000
DTEND:20240709T200000
SUMMARY:Jocs Gegants a la façana de la Biblioteca
LOCATION:Av. Pau Casals, 26 08450 Llinars del Vallès
METHOD:PUBLISH
X-WR-CALNAME:info@llinarsdelvalles.cat
X-WR-TIMEZONE:Europe/Madrid
DESCRIPTION:A càrrec de "Mou fitxa"

URI:https://www.llinarsdelvalles.cat/actualitat/agenda/jocs-gegants-a-la-facana-de-la-biblioteca.html
CLASS:PUBLIC
END:VEVENT
END:VCALENDAR
