BEGIN:VCALENDAR
VERSION:2.0
CALSCALE:GREGORIAN
PRODID:-//Diputació de Barcelona//DibaCMS//EN
BEGIN:VEVENT
UID:57609
DTSTAMP:20260420T035734
DTSTART:20240708T000000
DTEND:20240730T000000
SUMMARY:Exposició Km0 "A pinzellades fem camí"
LOCATION:
METHOD:PUBLISH
X-WR-CALNAME:info@llinarsdelvalles.cat
X-WR-TIMEZONE:Europe/Madrid
DESCRIPTION:Obres dels alumnes del taller d'adults de pintura i dibuix de Can Lletres, dinamitzat per la Laura Cáceres.

URI:https://www.llinarsdelvalles.cat/actualitat/agenda/exposicio-km0-a-pinzellades-fem-cami.html
CLASS:PUBLIC
END:VEVENT
END:VCALENDAR
