BEGIN:VCALENDAR
VERSION:2.0
CALSCALE:GREGORIAN
PRODID:-//Diputació de Barcelona//DibaCMS//EN
BEGIN:VEVENT
UID:57614
DTSTAMP:20260420T000524
DTSTART:20240730T180000
DTEND:20240730T180000
SUMMARY:Jocs Gegants a la façana de la Biblioteca
LOCATION:Av. Pau Casals, 26 08450 Llinars del Vallès
METHOD:PUBLISH
X-WR-CALNAME:info@llinarsdelvalles.cat
X-WR-TIMEZONE:Europe/Madrid
DESCRIPTION:A càrrec de "Mou fitxa"

URI:https://www.llinarsdelvalles.cat/actualitat/agenda/57614-jocs-gegants-a-la-facana-de-la-biblioteca.html
CLASS:PUBLIC
END:VEVENT
END:VCALENDAR
