BEGIN:VCALENDAR
VERSION:2.0
CALSCALE:GREGORIAN
PRODID:-//Diputació de Barcelona//DibaCMS//EN
BEGIN:VEVENT
UID:57615
DTSTAMP:20260420T035229
DTSTART:20240711T180000
DTEND:20240711T180000
SUMMARY:Taller familiar "Construïm amb Kapla"
LOCATION:Av. Pau Casals, 26 08450 Llinars del Vallès
METHOD:PUBLISH
X-WR-CALNAME:info@llinarsdelvalles.cat
X-WR-TIMEZONE:Europe/Madrid
DESCRIPTION:A càrrec de Kapla Catalunya.

URI:https://www.llinarsdelvalles.cat/actualitat/agenda/taller-familiar-construim-amb-kapla.html
CLASS:PUBLIC
END:VEVENT
END:VCALENDAR
